BEGIN:VCALENDAR
VERSION:2.0
PRODID:-//Berăria Vlad Țepeș - ECPv6.8.0//NONSGML v1.0//EN
CALSCALE:GREGORIAN
METHOD:PUBLISH
X-WR-CALNAME:Berăria Vlad Țepeș
X-ORIGINAL-URL:https://berariavladtepes.ro
X-WR-CALDESC:Events for Berăria Vlad Țepeș
REFRESH-INTERVAL;VALUE=DURATION:PT1H
X-Robots-Tag:noindex
X-PUBLISHED-TTL:PT1H
BEGIN:VTIMEZONE
TZID:Europe/Helsinki
BEGIN:DAYLIGHT
TZOFFSETFROM:+0200
TZOFFSETTO:+0300
TZNAME:EEST
DTSTART:20240331T010000
END:DAYLIGHT
BEGIN:STANDARD
TZOFFSETFROM:+0300
TZOFFSETTO:+0200
TZNAME:EET
DTSTART:20241027T010000
END:STANDARD
END:VTIMEZONE
BEGIN:VEVENT
DTSTART;TZID=Europe/Helsinki:20241103T180000
DTEND;TZID=Europe/Helsinki:20241103T220000
DTSTAMP:20260420T040000
CREATED:20241031T143615Z
LAST-MODIFIED:20241031T143615Z
UID:5787-1730656800-1730671200@berariavladtepes.ro
SUMMARY:Live Music in memoriam Madalina Manole & Laura Stoica cu Delia Savoiu
DESCRIPTION:𝐓𝐑𝐈𝐁𝐔𝐓𝐄 𝐌𝐎𝐌𝐄𝐍𝐓 𝐋𝐚𝐮𝐫𝐚 𝐒𝐭𝐨𝐢𝐜𝐚 & 𝐌𝐚̆𝐝𝐚̆𝐥𝐢𝐧𝐚 𝐌𝐚𝐧𝐨𝐥𝐞 𝐛𝐲 Delia Săvoiu  pe 𝟑 𝐬̦𝐢 𝟑𝟎 𝐧𝐨𝐢𝐞𝐦𝐛𝐫𝐢𝐞\n\n\nBerăria Vlad Țepeș din Târgoviște te invită să retrăiești magia muzicii românești cu un eveniment de neuitat! 𝐏𝐞 𝟑 𝐬̦𝐢 𝟑𝟎 𝐧𝐨𝐢𝐞𝐦𝐛𝐫𝐢𝐞\, pregătește-te pentru o seară dedicată marilor artiste\, Laura Stoica și Mădălina Manole\, într-un TRIBUTE MOMENT susținut de talentata @Delia Săvoiu \n\n\nCu o voce care reînvie emoțiile și farmecul celor două legende\, Delia Săvoiu va interpreta cele mai cunoscute și îndrăgite melodii ale acestora\, aducându-ne aminte de hituri precum „Fată dragă” sau „Un actor grăbit”.\n\n\n 𝐋𝐨𝐜𝐚𝐭̦𝐢𝐞: Berăria Vlad Țepeș\, Parc Chindia\, Târgoviște\n 𝐑𝐞𝐳𝐞𝐫𝐯𝐚̆𝐫𝐢: 𝟎𝟕𝟑𝟏.𝟕𝟔𝟑. 𝟑𝟔𝟑
URL:https://berariavladtepes.ro/event/live-music-cu-delia-savoiu/
LOCATION:Beraria Vlad Tepes\, Calea Domneasca 171 D\, Parc Chindia\, Targoviste\, Romania
ATTACH;FMTTYPE=image/png:https://berariavladtepes.ro/wp-content/uploads/2024/10/Beraria-Vlad-Tepes-tribute-moment.png
END:VEVENT
END:VCALENDAR