BEGIN:VCALENDAR
VERSION:2.0
PRODID:-//Berăria Vlad Țepeș - ECPv6.8.0//NONSGML v1.0//EN
CALSCALE:GREGORIAN
METHOD:PUBLISH
X-ORIGINAL-URL:https://berariavladtepes.ro
X-WR-CALDESC:Events for Berăria Vlad Țepeș
REFRESH-INTERVAL;VALUE=DURATION:PT1H
X-Robots-Tag:noindex
X-PUBLISHED-TTL:PT1H
BEGIN:VTIMEZONE
TZID:Europe/Helsinki
BEGIN:DAYLIGHT
TZOFFSETFROM:+0200
TZOFFSETTO:+0300
TZNAME:EEST
DTSTART:20240331T010000
END:DAYLIGHT
BEGIN:STANDARD
TZOFFSETFROM:+0300
TZOFFSETTO:+0200
TZNAME:EET
DTSTART:20241027T010000
END:STANDARD
END:VTIMEZONE
BEGIN:VEVENT
DTSTART;TZID=Europe/Helsinki:20241112T180000
DTEND;TZID=Europe/Helsinki:20241112T220000
DTSTAMP:20260420T055604
CREATED:20241031T151143Z
LAST-MODIFIED:20241031T152037Z
UID:5790-1731434400-1731448800@berariavladtepes.ro
SUMMARY:Pizza Bar
DESCRIPTION:Pe 12 noiembrie 𝐢̂𝐧𝐭𝐫𝐞 𝐨𝐫𝐞𝐥𝐞 𝟏𝟐:𝟎𝟎 – 𝟐𝟏:𝟑𝟎 avem 𝐏𝐈𝐙𝐙𝐀 𝐁𝐚𝐫 𝐥𝐚 𝐁𝐞𝐫𝐚̆𝐫𝐢𝐚 𝐕𝐥𝐚𝐝 𝐓̦𝐞𝐩𝐞𝐬̦ 𝐝𝐢𝐧 𝐓𝐚̂𝐫𝐠𝐨𝐯𝐢𝐬̦𝐭𝐞! 𝐏𝐥𝐚̆𝐭𝐞𝐬̦𝐭𝐢 𝟐𝟓 𝐝𝐞 𝐥𝐞𝐢 𝐬̦𝐢 𝐦𝐚̆𝐧𝐚̂𝐧𝐜𝐢 𝐜𝐚̂𝐭 𝐯𝐫𝐞𝐢! \n\n\nCe te așteaptă?\n• 𝐏𝐢𝐳𝐳𝐚 𝐝𝐞𝐥𝐢𝐜𝐢𝐨𝐚𝐬𝐚̆ 𝐥𝐚 𝐝𝐢𝐬𝐜𝐫𝐞𝐭̦𝐢𝐞 – o varietate de toppinguri unice și combinații inedite\, pregătite pe loc de pizzarii noștri.\n\n\nEste ocazia perfectă pentru a petrece timp de calitate alături de prieteni și familie\, într-o locație de poveste\, unde istoria și savoarea se îmbină perfect.\n\n\n𝐋𝐨𝐜𝐮𝐫𝐢𝐥𝐞 𝐬𝐮𝐧𝐭 𝐥𝐢𝐦𝐢𝐭𝐚𝐭𝐞\, 𝐚𝐬̦𝐚 𝐜𝐚̆ 𝐠𝐫𝐚̆𝐛𝐞𝐬̦𝐭𝐞-𝐭𝐞 𝐬𝐚̆ 𝐟𝐚𝐜𝐢 𝐨 𝐫𝐞𝐳𝐞𝐫𝐯𝐚𝐫𝐞!\n 𝐋𝐨𝐜𝐚𝐭̦𝐢𝐞: Berăria Vlad Țepeș\, Parc Chindia\, Târgoviște\n 𝐑𝐞𝐳𝐞𝐫𝐯𝐚̆𝐫𝐢: 𝟎𝟕𝟑𝟏.𝟕𝟔𝟑. 𝟑𝟔𝟑\nVino să te bucuri de o după-amiază memorabilă alături de cei dragi\, la PIZZA Bar!
URL:https://berariavladtepes.ro/event/pizza-bar/
LOCATION:Beraria Vlad Tepes\, Calea Domneasca 171 D\, Parc Chindia\, Targoviste\, Romania
ATTACH;FMTTYPE=image/png:https://berariavladtepes.ro/wp-content/uploads/2024/10/Beraria-Vlad-Tepes-Pizza-Bar-3.png
END:VEVENT
BEGIN:VEVENT
DTSTART;TZID=Europe/Helsinki:20241115T180000
DTEND;TZID=Europe/Helsinki:20241115T220000
DTSTAMP:20260420T055604
CREATED:20241031T151608Z
LAST-MODIFIED:20241031T151608Z
UID:5794-1731693600-1731708000@berariavladtepes.ro
SUMMARY:Live Music cu Mirabela
DESCRIPTION:𝐕𝐢𝐧𝐞𝐫𝐢\, 𝟏5 𝐧𝐨𝐢𝐞𝐦𝐛𝐫𝐢𝐞\, de la 𝐨𝐫𝐞𝐥𝐞 𝟏𝟖:𝟎𝟎 ne revedem cu invitata noastră specială – Nica Mirabela pentru încă o seară excepțională cu Muzică Live!\nVă așteptăm să petrecem împreună cu muzică de calitate și preparate gustoase! \nIntrare LIBERĂ\, pe bază de rezervare.\n𝐑𝐞𝐳𝐞𝐫𝐯𝐚̆𝐫𝐢 𝐥𝐚 𝐭𝐞𝐥𝐞𝐟𝐨𝐧: 𝟎𝟕𝟑𝟏.𝟕𝟔𝟑 𝟑𝟔𝟑
URL:https://berariavladtepes.ro/event/live-music-cu-mirabela/
LOCATION:Beraria Vlad Tepes\, Calea Domneasca 171 D\, Parc Chindia\, Targoviste\, Romania
ATTACH;FMTTYPE=image/png:https://berariavladtepes.ro/wp-content/uploads/2024/10/Beraria-Vlad-Tepes-Live-Music.png
END:VEVENT
BEGIN:VEVENT
DTSTART;TZID=Europe/Helsinki:20241119T180000
DTEND;TZID=Europe/Helsinki:20241119T220000
DTSTAMP:20260420T055604
CREATED:20241031T151927Z
LAST-MODIFIED:20241031T151927Z
UID:5797-1732039200-1732053600@berariavladtepes.ro
SUMMARY:Pizza Bar
DESCRIPTION:Pe 19 noiembrie 𝐢̂𝐧𝐭𝐫𝐞 𝐨𝐫𝐞𝐥𝐞 𝟏𝟐:𝟎𝟎 – 𝟐𝟏:𝟑𝟎 avem 𝐏𝐈𝐙𝐙𝐀 𝐁𝐚𝐫 𝐥𝐚 𝐁𝐞𝐫𝐚̆𝐫𝐢𝐚 𝐕𝐥𝐚𝐝 𝐓̦𝐞𝐩𝐞𝐬̦ 𝐝𝐢𝐧 𝐓𝐚̂𝐫𝐠𝐨𝐯𝐢𝐬̦𝐭𝐞! 𝐏𝐥𝐚̆𝐭𝐞𝐬̦𝐭𝐢 𝟐𝟓 𝐝𝐞 𝐥𝐞𝐢 𝐬̦𝐢 𝐦𝐚̆𝐧𝐚̂𝐧𝐜𝐢 𝐜𝐚̂𝐭 𝐯𝐫𝐞𝐢! \n\n\nCe te așteaptă?\n• 𝐏𝐢𝐳𝐳𝐚 𝐝𝐞𝐥𝐢𝐜𝐢𝐨𝐚𝐬𝐚̆ 𝐥𝐚 𝐝𝐢𝐬𝐜𝐫𝐞𝐭̦𝐢𝐞 – o varietate de toppinguri unice și combinații inedite\, pregătite pe loc de pizzarii noștri.\n\n\nEste ocazia perfectă pentru a petrece timp de calitate alături de prieteni și familie\, într-o locație de poveste\, unde istoria și savoarea se îmbină perfect.\n\n\n𝐋𝐨𝐜𝐮𝐫𝐢𝐥𝐞 𝐬𝐮𝐧𝐭 𝐥𝐢𝐦𝐢𝐭𝐚𝐭𝐞\, 𝐚𝐬̦𝐚 𝐜𝐚̆ 𝐠𝐫𝐚̆𝐛𝐞𝐬̦𝐭𝐞-𝐭𝐞 𝐬𝐚̆ 𝐟𝐚𝐜𝐢 𝐨 𝐫𝐞𝐳𝐞𝐫𝐯𝐚𝐫𝐞!\n 𝐋𝐨𝐜𝐚𝐭̦𝐢𝐞: Berăria Vlad Țepeș\, Parc Chindia\, Târgoviște\n 𝐑𝐞𝐳𝐞𝐫𝐯𝐚̆𝐫𝐢: 𝟎𝟕𝟑𝟏.𝟕𝟔𝟑. 𝟑𝟔𝟑\nVino să te bucuri de o după-amiază memorabilă alături de cei dragi\, la PIZZA Bar!
URL:https://berariavladtepes.ro/event/pizza-bar-2/
LOCATION:Beraria Vlad Tepes\, Calea Domneasca 171 D\, Parc Chindia\, Targoviste\, Romania
ATTACH;FMTTYPE=image/png:https://berariavladtepes.ro/wp-content/uploads/2024/10/Beraria-Vlad-Tepes-Pizza-Bar-3.png
END:VEVENT
BEGIN:VEVENT
DTSTART;TZID=Europe/Helsinki:20241121T000000
DTEND;TZID=Europe/Helsinki:20241124T220000
DTSTAMP:20260420T055604
CREATED:20241031T153041Z
LAST-MODIFIED:20241031T153131Z
UID:5800-1732147200-1732485600@berariavladtepes.ro
SUMMARY:Festivalul Berii\, 21-24 noiembrie
DESCRIPTION:🍻 Festivalul Berii la Berăria Vlad Țepeș!🍻 \nÎn perioada 21-24 noiembrie\, vino la Berăria Vlad Țepeș din Târgoviște să sărbătorim împreună – Festivalul Berii! Te așteaptă zile pline de voie bună\, cu bere din belșug și grătare încinse la maxim\, numai bune pentru pofticioși! 🥩🍻 \n🍺 Ce te așteaptă? \n\nO selecție variată de beri artizanale\, productie proprie\nPreparatele noastre speciale la grătar\, suculente și pline de arome\nMuzică bună și atmosferă de festival\nDistracție pentru toată familia!\n\n📍 Locație: Berăria Vlad Țepeș\, Parc Chindia\, Târgoviște\n📅 Perioadă: 21-24 noiembrie\n📞 Rezervări: 0731.763.363 \nNu rata ocazia să te distrezi alături de prieteni și familie – hai la festivalul nostru plin de bere\, grătare și bună dispoziție! 🍻
URL:https://berariavladtepes.ro/event/festivalul-berii/
LOCATION:Beraria Vlad Tepes\, Calea Domneasca 171 D\, Parc Chindia\, Targoviste\, Romania
ATTACH;FMTTYPE=image/png:https://berariavladtepes.ro/wp-content/uploads/2024/10/Beraria-Vlad-Tepes-Festivalul-Berii.png
END:VEVENT
END:VCALENDAR